BEGIN:VCALENDAR
VERSION:2.0
PRODID:-//hacksw/handcal//NONSGML v1.0//EN
BEGIN:VEVENT
UID:webmaster@cooper.edu
DTSTAMP; TZID=America/New_York:20131206T183000
ORGANIZER;CN=The Cooper Union:MAILTO:webmaster@cooper.edu
DTSTART; TZID=America/New_York:20131206T183000
DTEND; TZID=America/New_York:20131206T200000
SUMMARY:Free Lecture: "Everything You Always Wanted to Know About Comedy"
DESCRIPTION:David Misch, a comic folksinger, stand-up comedian, and screenwriter will discuss his book "Funny: The Book"
END:VEVENT
END:VCALENDAR
