BEGIN:VCALENDAR
VERSION:2.0
PRODID:-//hacksw/handcal//NONSGML v1.0//EN
BEGIN:VEVENT
UID:webmaster@cooper.edu
DTSTAMP; TZID=America/New_York:20131101T183000
ORGANIZER;CN=The Cooper Union:MAILTO:webmaster@cooper.edu
DTSTART; TZID=America/New_York:20131101T183000
DTEND; TZID=America/New_York:20131101T200000
SUMMARY:Free Lecture: Ben Schott on "Schottenfreude"
DESCRIPTION:The graphic designer and best-selling author of "Schott's Original Miscellany" discusses his latest book, "Schottenfreude: German Words for the Human Condition"
END:VEVENT
END:VCALENDAR
