BEGIN:VCALENDAR
VERSION:2.0
PRODID:-//hacksw/handcal//NONSGML v1.0//EN
BEGIN:VEVENT
UID:webmaster@cooper.edu
DTSTAMP; TZID=America/New_York:20130717T170000
ORGANIZER;CN=The Cooper Union:MAILTO:webmaster@cooper.edu
DTSTART; TZID=America/New_York:20130717T170000
DTEND; TZID=America/New_York:20130731T170000
SUMMARY:2013 Summer Programs in Architecture Lecture Series: The Design Studio
DESCRIPTION:As part of the Introduction to Architecture summer intensive, regularly scheduled lectures on the different Design Studios in the Bachelor of Architecture degree program will be presented by current School of Architecture students.
END:VEVENT
END:VCALENDAR
