BEGIN:VCALENDAR
VERSION:2.0
PRODID:-//hacksw/handcal//NONSGML v1.0//EN
BEGIN:VEVENT
UID:webmaster@cooper.edu
DTSTAMP; TZID=America/New_York:20130501T193000
ORGANIZER;CN=The Cooper Union:MAILTO:webmaster@cooper.edu
DTSTART; TZID=America/New_York:20130501T193000
DTEND; TZID=America/New_York:20130501T223000
SUMMARY:IDEAS CITY Conference
DESCRIPTION:The IDEAS CITY Conference is a collaborative initiative that involves hundreds of arts, education, and community organizations in an ongoing, multi-platform discussion on the future of cities around the globe
END:VEVENT
END:VCALENDAR
