BEGIN:VCALENDAR
VERSION:2.0
PRODID:-//hacksw/handcal//NONSGML v1.0//EN
BEGIN:VEVENT
UID:webmaster@cooper.edu
DTSTAMP; TZID=America/New_York:20130205T190000
ORGANIZER;CN=The Cooper Union:MAILTO:webmaster@cooper.edu
DTSTART; TZID=America/New_York:20130205T190000
DTEND; TZID=America/New_York:20130205T210000
SUMMARY:Divesting From Fossil Fuels: A Conversation with Bill McKibben and NYC Students
DESCRIPTION:The event will feature a talk about divestment by climate change author and activist Bill McKibben followed by an open conversation with a panel of NYC student leaders.
END:VEVENT
END:VCALENDAR
