BEGIN:VCALENDAR
VERSION:2.0
PRODID:-//hacksw/handcal//NONSGML v1.0//EN
BEGIN:VEVENT
UID:webmaster@cooper.edu
DTSTAMP; TZID=America/New_York:20101112T190000
ORGANIZER;CN=The Cooper Union:MAILTO:webmaster@cooper.edu
DTSTART; TZID=America/New_York:20101112T190000
DTEND; TZID=America/New_York:20101112T210000
SUMMARY:HIKE-ABILITY, COLLECTIVE INTIMACY, ETC: Minsuk Cho / Mass Studies
DESCRIPTION:
END:VEVENT
END:VCALENDAR
