BEGIN:VCALENDAR
VERSION:2.0
PRODID:-//hacksw/handcal//NONSGML v1.0//EN
BEGIN:VEVENT
UID:webmaster@cooper.edu
DTSTAMP; TZID=America/New_York:20101202T183000
ORGANIZER;CN=The Cooper Union:MAILTO:webmaster@cooper.edu
DTSTART; TZID=America/New_York:20101202T183000
DTEND; TZID=America/New_York:20101202T200000
SUMMARY:Dr. George Bugliarello "Science, Technology and Society: the Tightening Circle"
DESCRIPTION:
END:VEVENT
END:VCALENDAR
