BEGIN:VCALENDAR
VERSION:2.0
PRODID:-//hacksw/handcal//NONSGML v1.0//EN
BEGIN:VEVENT
UID:webmaster@cooper.edu
DTSTAMP; TZID=America/New_York:20260421T180000
ORGANIZER;CN=The Cooper Union:MAILTO:webmaster@cooper.edu
DTSTART; TZID=America/New_York:20260421T180000
DTEND; TZID=America/New_York:20260425T150000
SUMMARY:April 21 On View Exhibitions
DESCRIPTION:Senior Presentations by Madison Kwon, Suyeon Kim, Sonae White, Hanlu Zhou, Sommre Phillips, Payton Thurber, Henry Slomba, Selina Wang.&nbsp;Student Exhibitions by James Pringle, Aidan Sung and Mauricio Perdomo-Doncel and Mila Wong, Louisa Sugiman, Subin Yang, Elijah Smith, Leonardo Almeida-Ramirez, Idalia Orozco-Carey, Jocelyn Megehee, Edie Hodgson, and Michel Darling.
END:VEVENT
END:VCALENDAR
