BEGIN:VCALENDAR
VERSION:2.0
PRODID:-//hacksw/handcal//NONSGML v1.0//EN
BEGIN:VEVENT
UID:webmaster@cooper.edu
DTSTAMP; TZID=America/New_York:20260626T100000
ORGANIZER;CN=The Cooper Union:MAILTO:webmaster@cooper.edu
DTSTART; TZID=America/New_York:20260626T100000
DTEND; TZID=America/New_York:20260627T170000
SUMMARY:Typographics 2026
DESCRIPTION:The annual event is now in its 12th year
END:VEVENT
END:VCALENDAR
