BEGIN:VCALENDAR
VERSION:2.0
PRODID:-//hacksw/handcal//NONSGML v1.0//EN
BEGIN:VEVENT
UID:webmaster@cooper.edu
DTSTAMP; TZID=America/New_York:20260409T170000
ORGANIZER;CN=The Cooper Union:MAILTO:webmaster@cooper.edu
DTSTART; TZID=America/New_York:20260409T170000
DTEND; TZID=America/New_York:20260503T190000
SUMMARY:Public Pools
DESCRIPTION:A third floor hallway exhibition examining New York City's public pools.
END:VEVENT
END:VCALENDAR
