BEGIN:VCALENDAR
VERSION:2.0
PRODID:-//hacksw/handcal//NONSGML v1.0//EN
BEGIN:VEVENT
UID:webmaster@cooper.edu
DTSTAMP; TZID=America/New_York:20260331T180000
ORGANIZER;CN=The Cooper Union:MAILTO:webmaster@cooper.edu
DTSTART; TZID=America/New_York:20260331T180000
DTEND; TZID=America/New_York:20260404T150000
SUMMARY:March 31 On View Exhibition
DESCRIPTION:Senior Presentations by Lucy Pan, Joan Moon, Samuel Heim, Saskia Lampe, Ruby Jägel, Regina Cervantes Ellis, Kamai Williams and Eddie Gittens.
END:VEVENT
END:VCALENDAR
