BEGIN:VCALENDAR
VERSION:2.0
PRODID:-//hacksw/handcal//NONSGML v1.0//EN
BEGIN:VEVENT
UID:webmaster@cooper.edu
DTSTAMP; TZID=America/New_York:20260323T120000
ORGANIZER;CN=The Cooper Union:MAILTO:webmaster@cooper.edu
DTSTART; TZID=America/New_York:20260323T120000
DTEND; TZID=America/New_York:20260410T120000
SUMMARY:Unlocking Peter Cooper's New York
DESCRIPTION:Glimpse the arc of New York City history through the lens of Peter Cooper's eventful life
END:VEVENT
END:VCALENDAR
