BEGIN:VCALENDAR
VERSION:2.0
PRODID:-//hacksw/handcal//NONSGML v1.0//EN
BEGIN:VEVENT
UID:webmaster@cooper.edu
DTSTAMP; TZID=America/New_York:20260310T180000
ORGANIZER;CN=The Cooper Union:MAILTO:webmaster@cooper.edu
DTSTART; TZID=America/New_York:20260310T180000
DTEND; TZID=America/New_York:20260314T150000
SUMMARY:March 10 On View Exhibitions
DESCRIPTION:Senior Presentations by Yufei Lin, Jinseo Lee, Lana Labelle and Yeeun Kim.
END:VEVENT
END:VCALENDAR
