BEGIN:VCALENDAR
VERSION:2.0
PRODID:-//hacksw/handcal//NONSGML v1.0//EN
BEGIN:VEVENT
UID:webmaster@cooper.edu
DTSTAMP; TZID=America/New_York:20260303T180000
ORGANIZER;CN=The Cooper Union:MAILTO:webmaster@cooper.edu
DTSTART; TZID=America/New_York:20260303T180000
DTEND; TZID=America/New_York:20260307T150000
SUMMARY:MARCH 03 ON VIEW EXHIBITIONS
DESCRIPTION:Senior Presentations by Alfred Lipsyte, Fainite Auguste &amp; Kiana Farizandi. Student Exhibitions by Friedman's Comp Studio Class and BSU.&nbsp;
END:VEVENT
END:VCALENDAR
