BEGIN:VCALENDAR
VERSION:2.0
PRODID:-//hacksw/handcal//NONSGML v1.0//EN
BEGIN:VEVENT
UID:webmaster@cooper.edu
DTSTAMP; TZID=America/New_York:20260305T183000
ORGANIZER;CN=The Cooper Union:MAILTO:webmaster@cooper.edu
DTSTART; TZID=America/New_York:20260305T183000
DTEND; TZID=America/New_York:20260305T203000
SUMMARY:The Diane Lewis Student Lecture Series | Thomas Aquilina and Abiba Coulibaly in Conversation with Guillermo Ruiz de Teresa: From Pedagogy to Practice — New Archives for the City
DESCRIPTION:
END:VEVENT
END:VCALENDAR
