BEGIN:VCALENDAR
VERSION:2.0
PRODID:-//hacksw/handcal//NONSGML v1.0//EN
BEGIN:VEVENT
UID:webmaster@cooper.edu
DTSTAMP; TZID=America/New_York:20260325T190000
ORGANIZER;CN=The Cooper Union:MAILTO:webmaster@cooper.edu
DTSTART; TZID=America/New_York:20260325T190000
DTEND; TZID=America/New_York:20260325T203000
SUMMARY:Future Relic
DESCRIPTION:A conversation with Cooper Union alumnus Daniel Arsham about his new memoir that touches on failures, disasters, detours, and how he made a career as an artist
END:VEVENT
END:VCALENDAR
