BEGIN:VCALENDAR
VERSION:2.0
PRODID:-//hacksw/handcal//NONSGML v1.0//EN
BEGIN:VEVENT
UID:webmaster@cooper.edu
DTSTAMP; TZID=America/New_York:20260215T103000
ORGANIZER;CN=The Cooper Union:MAILTO:webmaster@cooper.edu
DTSTART; TZID=America/New_York:20260215T103000
DTEND; TZID=America/New_York:20260215T130000
SUMMARY:Cooper Together 2026: San Francisco
DESCRIPTION:Cooper Together San FranciscoSunday, February 15
END:VEVENT
END:VCALENDAR
