BEGIN:VCALENDAR
VERSION:2.0
PRODID:-//hacksw/handcal//NONSGML v1.0//EN
BEGIN:VEVENT
UID:webmaster@cooper.edu
DTSTAMP; TZID=America/New_York:20260210T180000
ORGANIZER;CN=The Cooper Union:MAILTO:webmaster@cooper.edu
DTSTART; TZID=America/New_York:20260210T180000
DTEND; TZID=America/New_York:20260227T200000
SUMMARY:2026 Benjamin Menschel Fellowship Exhibition 
DESCRIPTION:This year's show features work by 12 Cooper Union students across all three schools
END:VEVENT
END:VCALENDAR
