BEGIN:VCALENDAR
VERSION:2.0
PRODID:-//hacksw/handcal//NONSGML v1.0//EN
BEGIN:VEVENT
UID:webmaster@cooper.edu
DTSTAMP; TZID=America/New_York:20260225T180000
ORGANIZER;CN=The Cooper Union:MAILTO:webmaster@cooper.edu
DTSTART; TZID=America/New_York:20260225T180000
DTEND; TZID=America/New_York:20260225T200000
SUMMARY:Cooper Together 2026: Seattle
DESCRIPTION:Cooper Together SeattleWednesday, February 25
END:VEVENT
END:VCALENDAR
