BEGIN:VCALENDAR
VERSION:2.0
PRODID:-//hacksw/handcal//NONSGML v1.0//EN
BEGIN:VEVENT
UID:webmaster@cooper.edu
DTSTAMP; TZID=America/New_York:20260221T130000
ORGANIZER;CN=The Cooper Union:MAILTO:webmaster@cooper.edu
DTSTART; TZID=America/New_York:20260221T130000
DTEND; TZID=America/New_York:20260221T150000
SUMMARY:Cooper Together 2026: Peekskill
DESCRIPTION:Cooper Together PeekskillSaturday, February 21
END:VEVENT
END:VCALENDAR
