BEGIN:VCALENDAR
VERSION:2.0
PRODID:-//hacksw/handcal//NONSGML v1.0//EN
BEGIN:VEVENT
UID:webmaster@cooper.edu
DTSTAMP; TZID=America/New_York:20260218T183000
ORGANIZER;CN=The Cooper Union:MAILTO:webmaster@cooper.edu
DTSTART; TZID=America/New_York:20260218T183000
DTEND; TZID=America/New_York:20260218T193000
SUMMARY:PAF Talk: On the Flipside
DESCRIPTION:The talk centers on the practices of Kennedi Carter, Lougè Delcy, Camila Falquez, Ruby Okoro, Dana Scruggs, and Juan Veloz
END:VEVENT
END:VCALENDAR
