BEGIN:VCALENDAR
VERSION:2.0
PRODID:-//hacksw/handcal//NONSGML v1.0//EN
BEGIN:VEVENT
UID:webmaster@cooper.edu
DTSTAMP; TZID=America/New_York:20260218T173000
ORGANIZER;CN=The Cooper Union:MAILTO:webmaster@cooper.edu
DTSTART; TZID=America/New_York:20260218T173000
DTEND; TZID=America/New_York:20260218T193000
SUMMARY:Cooper Together 2026: Houston
DESCRIPTION:Cooper Together HoustonWednesday, February 18
END:VEVENT
END:VCALENDAR
