BEGIN:VCALENDAR
VERSION:2.0
PRODID:-//hacksw/handcal//NONSGML v1.0//EN
BEGIN:VEVENT
UID:webmaster@cooper.edu
DTSTAMP; TZID=America/New_York:20251209T180000
ORGANIZER;CN=The Cooper Union:MAILTO:webmaster@cooper.edu
DTSTART; TZID=America/New_York:20251209T180000
DTEND; TZID=America/New_York:20251213T150000
SUMMARY:City Matters: Data, Ecology, Infrastructure & Public Life Across NYC
DESCRIPTION:
END:VEVENT
END:VCALENDAR
