BEGIN:VCALENDAR
VERSION:2.0
PRODID:-//hacksw/handcal//NONSGML v1.0//EN
BEGIN:VEVENT
UID:webmaster@cooper.edu
DTSTAMP; TZID=America/New_York:20251216T183000
ORGANIZER;CN=The Cooper Union:MAILTO:webmaster@cooper.edu
DTSTART; TZID=America/New_York:20251216T183000
DTEND; TZID=America/New_York:20251216T203000
SUMMARY:Finnish Cultural Institute of New York Lecture and Workshop | Arvind Ramachandran: Conversations Around Public Space
DESCRIPTION:
END:VEVENT
END:VCALENDAR
