BEGIN:VCALENDAR
VERSION:2.0
PRODID:-//hacksw/handcal//NONSGML v1.0//EN
BEGIN:VEVENT
UID:webmaster@cooper.edu
DTSTAMP; TZID=America/New_York:20251208T123000
ORGANIZER;CN=The Cooper Union:MAILTO:webmaster@cooper.edu
DTSTART; TZID=America/New_York:20251208T123000
DTEND; TZID=America/New_York:20251208T143000
SUMMARY:Romain du Roi: 330 Years Later
DESCRIPTION:A closer look at the history and legacy of this ambitious royal type project which took some 65 years to complete
END:VEVENT
END:VCALENDAR
