BEGIN:VCALENDAR
VERSION:2.0
PRODID:-//hacksw/handcal//NONSGML v1.0//EN
BEGIN:VEVENT
UID:webmaster@cooper.edu
DTSTAMP; TZID=America/New_York:20251204T170000
ORGANIZER;CN=The Cooper Union:MAILTO:webmaster@cooper.edu
DTSTART; TZID=America/New_York:20251204T170000
DTEND; TZID=America/New_York:20251204T210000
SUMMARY:Miami Alumni Meet Up at Swampspace Gallery
DESCRIPTION:Miami Alumni Meet Up at Swampspace GalleryThursday, December 4
END:VEVENT
END:VCALENDAR
