BEGIN:VCALENDAR
VERSION:2.0
PRODID:-//hacksw/handcal//NONSGML v1.0//EN
BEGIN:VEVENT
UID:webmaster@cooper.edu
DTSTAMP; TZID=America/New_York:20251111T183000
ORGANIZER;CN=The Cooper Union:MAILTO:webmaster@cooper.edu
DTSTART; TZID=America/New_York:20251111T183000
DTEND; TZID=America/New_York:20251111T203000
SUMMARY:Bill Baker in Conversation with Sigrid Adriaenssens and Thorsten Helbig: Structural Research in the Creation of New Architectures
DESCRIPTION:
END:VEVENT
END:VCALENDAR
