BEGIN:VCALENDAR
VERSION:2.0
PRODID:-//hacksw/handcal//NONSGML v1.0//EN
BEGIN:VEVENT
UID:webmaster@cooper.edu
DTSTAMP; TZID=America/New_York:20251106T183000
ORGANIZER;CN=The Cooper Union:MAILTO:webmaster@cooper.edu
DTSTART; TZID=America/New_York:20251106T183000
DTEND; TZID=America/New_York:20251106T203000
SUMMARY:The Diane Lewis Student Lecture Series | Malkit Shoshan: Ecologies of Care — Designing Within Conflict
DESCRIPTION:
END:VEVENT
END:VCALENDAR
