BEGIN:VCALENDAR
VERSION:2.0
PRODID:-//hacksw/handcal//NONSGML v1.0//EN
BEGIN:VEVENT
UID:webmaster@cooper.edu
DTSTAMP; TZID=America/New_York:20250925T183000
ORGANIZER;CN=The Cooper Union:MAILTO:webmaster@cooper.edu
DTSTART; TZID=America/New_York:20250925T183000
DTEND; TZID=America/New_York:20250925T194500
SUMMARY:World Premiere of The Price of Milk Ep. 4: The Kids are Not Alright 
DESCRIPTION:
END:VEVENT
END:VCALENDAR
