BEGIN:VCALENDAR
VERSION:2.0
PRODID:-//hacksw/handcal//NONSGML v1.0//EN
BEGIN:VEVENT
UID:webmaster@cooper.edu
DTSTAMP; TZID=America/New_York:20250410T183000
ORGANIZER;CN=The Cooper Union:MAILTO:webmaster@cooper.edu
DTSTART; TZID=America/New_York:20250410T183000
DTEND; TZID=America/New_York:20250502T190000
SUMMARY:Agrest & Gandelsonas: Fabric Object II
DESCRIPTION:An exhibition of drawings, models, photographs, and ephemera by architects and educators Diana Agrest and Mario Gandelsonas.
END:VEVENT
END:VCALENDAR
