BEGIN:VCALENDAR
VERSION:2.0
PRODID:-//hacksw/handcal//NONSGML v1.0//EN
BEGIN:VEVENT
UID:webmaster@cooper.edu
DTSTAMP; TZID=America/New_York:20250407T193000
ORGANIZER;CN=The Cooper Union:MAILTO:webmaster@cooper.edu
DTSTART; TZID=America/New_York:20250407T193000
DTEND; TZID=America/New_York:20250407T203000
SUMMARY:Live Taping of On with Kara Swisher featuring Daily Show's Josh Johnson
DESCRIPTION:The pair will tackle the latest news in tech, politics, and business&nbsp;
END:VEVENT
END:VCALENDAR
