BEGIN:VCALENDAR
VERSION:2.0
PRODID:-//hacksw/handcal//NONSGML v1.0//EN
BEGIN:VEVENT
UID:webmaster@cooper.edu
DTSTAMP; TZID=America/New_York:20250212T140000
ORGANIZER;CN=The Cooper Union:MAILTO:webmaster@cooper.edu
DTSTART; TZID=America/New_York:20250212T140000
DTEND; TZID=America/New_York:20250212T160000
SUMMARY:In-Class Lecture | John Chunhan Lin AR'02: The Social Contract
DESCRIPTION:2025 CUAA John Q. Hejduk Award winner John Chunhan Lin AR'02 will present his work in a lecture in 315F.&nbsp;
END:VEVENT
END:VCALENDAR
