BEGIN:VCALENDAR
VERSION:2.0
PRODID:-//hacksw/handcal//NONSGML v1.0//EN
BEGIN:VEVENT
UID:webmaster@cooper.edu
DTSTAMP; TZID=America/New_York:20241119T183000
ORGANIZER;CN=The Cooper Union:MAILTO:webmaster@cooper.edu
DTSTART; TZID=America/New_York:20241119T183000
DTEND; TZID=America/New_York:20241119T203000
SUMMARY:Making Home with Data Lecture: Mona Chalabi, Gauri Bahuguna + Martina Duque González in conversation with Christina L. De León
DESCRIPTION:
END:VEVENT
END:VCALENDAR
