BEGIN:VCALENDAR
VERSION:2.0
PRODID:-//hacksw/handcal//NONSGML v1.0//EN
BEGIN:VEVENT
UID:webmaster@cooper.edu
DTSTAMP; TZID=America/New_York:20241022T121500
ORGANIZER;CN=The Cooper Union:MAILTO:webmaster@cooper.edu
DTSTART; TZID=America/New_York:20241022T121500
DTEND; TZID=America/New_York:20241022T135000
SUMMARY:HSS Faculty Focus | Propaganda's Affordances: On Documenting Histories of the Cold War
DESCRIPTION:
END:VEVENT
END:VCALENDAR
