BEGIN:VCALENDAR
VERSION:2.0
PRODID:-//hacksw/handcal//NONSGML v1.0//EN
BEGIN:VEVENT
UID:webmaster@cooper.edu
DTSTAMP; TZID=America/New_York:20240919T180000
ORGANIZER;CN=The Cooper Union:MAILTO:webmaster@cooper.edu
DTSTART; TZID=America/New_York:20240919T180000
DTEND; TZID=America/New_York:20241021T170000
SUMMARY:Michael Silberman:  A Retrospective 
DESCRIPTION:New York City photographs by 1956 School of Art alumnus Michael Silberman are on view in The Cooper Union Library
END:VEVENT
END:VCALENDAR
