BEGIN:VCALENDAR
VERSION:2.0
PRODID:-//hacksw/handcal//NONSGML v1.0//EN
BEGIN:VEVENT
UID:webmaster@cooper.edu
DTSTAMP; TZID=America/New_York:20240927T180000
ORGANIZER;CN=The Cooper Union:MAILTO:webmaster@cooper.edu
DTSTART; TZID=America/New_York:20240927T180000
DTEND; TZID=America/New_York:20240929T170000
SUMMARY:Hello From The Data Vandals (or free as air and water, or whatsoever things are true)
DESCRIPTION:A look at the East Village neighborhood through data past and present
END:VEVENT
END:VCALENDAR
