BEGIN:VCALENDAR
VERSION:2.0
PRODID:-//hacksw/handcal//NONSGML v1.0//EN
BEGIN:VEVENT
UID:webmaster@cooper.edu
DTSTAMP; TZID=America/New_York:20240404T170000
ORGANIZER;CN=The Cooper Union:MAILTO:webmaster@cooper.edu
DTSTART; TZID=America/New_York:20240404T170000
DTEND; TZID=America/New_York:20240428T170000
SUMMARY:Lydia Kallipoliti: Histories of Ecological Design—An Unfinished Cyclopedia
DESCRIPTION:This exhibition presents work from Associate Professor Lydia Kallipoliti’s new book, Histories of Ecological Design: An Unfinished Cyclopedia (Actar, 2024).
END:VEVENT
END:VCALENDAR
