BEGIN:VCALENDAR
VERSION:2.0
PRODID:-//hacksw/handcal//NONSGML v1.0//EN
BEGIN:VEVENT
UID:webmaster@cooper.edu
DTSTAMP; TZID=America/New_York:20240402T183000
ORGANIZER;CN=The Cooper Union:MAILTO:webmaster@cooper.edu
DTSTART; TZID=America/New_York:20240402T183000
DTEND; TZID=America/New_York:20240402T200000
SUMMARY:Alumna Elizabeth Diller gives the 2024 Eleanore Pettersen Lecture
DESCRIPTION:Justin Davidson, architecture and classical music critic at New York magazine, will join Diller for a conversation following her talk.
END:VEVENT
END:VCALENDAR
