BEGIN:VCALENDAR
VERSION:2.0
PRODID:-//hacksw/handcal//NONSGML v1.0//EN
BEGIN:VEVENT
UID:webmaster@cooper.edu
DTSTAMP; TZID=America/New_York:20240304T183000
ORGANIZER;CN=The Cooper Union:MAILTO:webmaster@cooper.edu
DTSTART; TZID=America/New_York:20240304T183000
DTEND; TZID=America/New_York:20240304T200000
SUMMARY:Darren Walker Gives the 2024 Benjamin Menschel Distinguished Lecture
DESCRIPTION:Walker will speak on the promise of America, our aspirations for democracy and social progress, and more
END:VEVENT
END:VCALENDAR
