BEGIN:VCALENDAR
VERSION:2.0
PRODID:-//hacksw/handcal//NONSGML v1.0//EN
BEGIN:VEVENT
UID:webmaster@cooper.edu
DTSTAMP; TZID=America/New_York:20240411T170000
ORGANIZER;CN=The Cooper Union:MAILTO:webmaster@cooper.edu
DTSTART; TZID=America/New_York:20240411T170000
DTEND; TZID=America/New_York:20240411T180000
SUMMARY:Are You For Sale? Ethical Questions Regarding Economic Justice for Artists
DESCRIPTION:
END:VEVENT
END:VCALENDAR
