BEGIN:VCALENDAR
VERSION:2.0
PRODID:-//hacksw/handcal//NONSGML v1.0//EN
BEGIN:VEVENT
UID:webmaster@cooper.edu
DTSTAMP; TZID=America/New_York:20240215T170000
ORGANIZER;CN=The Cooper Union:MAILTO:webmaster@cooper.edu
DTSTART; TZID=America/New_York:20240215T170000
DTEND; TZID=America/New_York:20240215T180000
SUMMARY:We’re Staying: Urban Redevelopment and the Struggle for Housing Justice in Puerto Rican New York 
DESCRIPTION:A talk on how New York's Puerto Rican communities responded to city officials’ broken promises for fair housing access
END:VEVENT
END:VCALENDAR
