BEGIN:VCALENDAR
VERSION:2.0
PRODID:-//hacksw/handcal//NONSGML v1.0//EN
BEGIN:VEVENT
UID:webmaster@cooper.edu
DTSTAMP; TZID=America/New_York:20231130T170000
ORGANIZER;CN=The Cooper Union:MAILTO:webmaster@cooper.edu
DTSTART; TZID=America/New_York:20231130T170000
DTEND; TZID=America/New_York:20231130T180000
SUMMARY:Black Grief/White Grievance: The Politics of Loss
DESCRIPTION:Juliet Hooker examines key moments in U.S. racial politics that illuminate the problem of loss in democracy
END:VEVENT
END:VCALENDAR
