BEGIN:VCALENDAR
VERSION:2.0
PRODID:-//hacksw/handcal//NONSGML v1.0//EN
BEGIN:VEVENT
UID:webmaster@cooper.edu
DTSTAMP; TZID=America/New_York:20231115T183000
ORGANIZER;CN=The Cooper Union:MAILTO:webmaster@cooper.edu
DTSTART; TZID=America/New_York:20231115T183000
DTEND; TZID=America/New_York:20231115T203000
SUMMARY:Visiting Lecture | Dongwoo Yim, PRAUD: What Remains After All?; Topology & Typology, a Language of Contemporary Architecture
DESCRIPTION:Dongwoo Yim will give a presentation in the Library Atrium.&nbsp;
END:VEVENT
END:VCALENDAR
