BEGIN:VCALENDAR
VERSION:2.0
PRODID:-//hacksw/handcal//NONSGML v1.0//EN
BEGIN:VEVENT
UID:webmaster@cooper.edu
DTSTAMP; TZID=America/New_York:20231012T183000
ORGANIZER;CN=The Cooper Union:MAILTO:webmaster@cooper.edu
DTSTART; TZID=America/New_York:20231012T183000
DTEND; TZID=America/New_York:20231012T203000
SUMMARY:Friedrich Neugebauer: Austria’s Calligrapher, Book Artist, and Publisher
DESCRIPTION:Bruce Kennett shares a visual exploration of Neugebauer’s distinctive works
END:VEVENT
END:VCALENDAR
