BEGIN:VCALENDAR
VERSION:2.0
PRODID:-//hacksw/handcal//NONSGML v1.0//EN
BEGIN:VEVENT
UID:webmaster@cooper.edu
DTSTAMP; TZID=America/New_York:20231107T121500
ORGANIZER;CN=The Cooper Union:MAILTO:webmaster@cooper.edu
DTSTART; TZID=America/New_York:20231107T121500
DTEND; TZID=America/New_York:20231107T140000
SUMMARY:HSS Faculty Focus: Trauma, Privilege, and Adventure 
DESCRIPTION:Professor Atina Grossmann discusses the diverse experiences, memories, and more of Jews who found refuge from National Socialism and the Holocaust in India and Iran after 1933
END:VEVENT
END:VCALENDAR
