BEGIN:VCALENDAR
VERSION:2.0
PRODID:-//hacksw/handcal//NONSGML v1.0//EN
BEGIN:VEVENT
UID:webmaster@cooper.edu
DTSTAMP; TZID=America/New_York:20230912T120015
ORGANIZER;CN=The Cooper Union:MAILTO:webmaster@cooper.edu
DTSTART; TZID=America/New_York:20230912T120015
DTEND; TZID=America/New_York:20230912T140000
SUMMARY:HSS Faculty Focus: Measuring Inequality in Real Time
DESCRIPTION:Loujaina Abdelwahed, assistant professor of economics, shares her research on developing real-time measures of consumer spending and income inequality
END:VEVENT
END:VCALENDAR
