BEGIN:VCALENDAR
VERSION:2.0
PRODID:-//hacksw/handcal//NONSGML v1.0//EN
BEGIN:VEVENT
UID:webmaster@cooper.edu
DTSTAMP; TZID=America/New_York:20230731T123000
ORGANIZER;CN=The Cooper Union:MAILTO:webmaster@cooper.edu
DTSTART; TZID=America/New_York:20230731T123000
DTEND; TZID=America/New_York:20230731T143000
SUMMARY:A Beautiful Dark Heritage: Blackletter in Mexican Letterform Culture
DESCRIPTION:A talk about the reasons behind how and why a mediaeval calligraphy style became deep-rooted in México
END:VEVENT
END:VCALENDAR
