BEGIN:VCALENDAR
VERSION:2.0
PRODID:-//hacksw/handcal//NONSGML v1.0//EN
BEGIN:VEVENT
UID:webmaster@cooper.edu
DTSTAMP; TZID=America/New_York:20230425T120000
ORGANIZER;CN=The Cooper Union:MAILTO:webmaster@cooper.edu
DTSTART; TZID=America/New_York:20230425T120000
DTEND; TZID=America/New_York:20230505T190000
SUMMARY:Vkhutemas: Laboratory of Modernism, 1920–1930 
DESCRIPTION:An exhibition of the work of 27 Cooper Union architecture students that explores the modernist work of early 20th century Vkhutemas students
END:VEVENT
END:VCALENDAR
