BEGIN:VCALENDAR
VERSION:2.0
PRODID:-//hacksw/handcal//NONSGML v1.0//EN
BEGIN:VEVENT
UID:webmaster@cooper.edu
DTSTAMP; TZID=America/New_York:20230427T183000
ORGANIZER;CN=The Cooper Union:MAILTO:webmaster@cooper.edu
DTSTART; TZID=America/New_York:20230427T183000
DTEND; TZID=America/New_York:20230427T200000
SUMMARY:War/Art Balance
DESCRIPTION:A Panel on Deimperializing the Soviet Avant-Garde at the Time of Russia’s War on Ukraine, Its Culture, and People
END:VEVENT
END:VCALENDAR
