BEGIN:VCALENDAR
VERSION:2.0
PRODID:-//hacksw/handcal//NONSGML v1.0//EN
BEGIN:VEVENT
UID:webmaster@cooper.edu
DTSTAMP; TZID=America/New_York:20230420T170000
ORGANIZER;CN=The Cooper Union:MAILTO:webmaster@cooper.edu
DTSTART; TZID=America/New_York:20230420T170000
DTEND; TZID=America/New_York:20230420T180000
SUMMARY:Liberal White Supremacy: How Progressives Silence Racial and Class Oppression
DESCRIPTION:Angie Beeman, Ph.D., explains why white supremacy is maintained not only by right-wing conservatives or racial bigots but also by progressives
END:VEVENT
END:VCALENDAR
